BEGIN:VCALENDAR
VERSION:2.0
PRODID:-//marcct.org//NONSGML kigkonsult.se iCalcreator 2.30.10//
CALSCALE:GREGORIAN
METHOD:PUBLISH
UID:724e2119-f7ed-48f6-a823-32b8505816a2
X-WR-CALDESC:Please bring a minimum of $20 for concessions. Transportation 
 to and from home before and after the event will be provided\; pick-up sta
 rts at 12:00p\; your pick-up time will vary based on your distance from MA
 RC\, Inc. Registration required. You may register for up to four events pe
 r month.
X-WR-RELCALID:aac83fed6d717cd901bbaec58e419fbb
X-WR-TIMEZONE:America/New_York
BEGIN:VTIMEZONE
TZID:America/New_York
BEGIN:STANDARD
TZNAME:EST
DTSTART:20241103T020000
TZOFFSETFROM:-0400
TZOFFSETTO:-0500
RDATE:20251102T020000
END:STANDARD
BEGIN:DAYLIGHT
TZNAME:EDT
DTSTART:20240310T020000
TZOFFSETFROM:-0500
TZOFFSETTO:-0400
RDATE:20250309T020000
RDATE:20260308T020000
END:DAYLIGHT
END:VTIMEZONE
BEGIN:VEVENT
UID:1a82954b-8fac-45dc-ab1b-23cf631cc570
DTSTAMP:20260421T084946Z
DESCRIPTION:Please bring a minimum of $20 for concessions. Transportation t
 o and from home before and after the event will be provided\; pick-up star
 ts at 12:00p\; your pick-up time will vary based on your distance from MAR
 C\, Inc. Registration required. You may register for up to four events per
  month.
DTSTART;TZID=America/New_York:20241207T120000
DTEND;TZID=America/New_York:20241207T180000
LOCATION:
SUMMARY:REC Activity - A Christmas Carol
END:VEVENT
END:VCALENDAR
