BEGIN:VCALENDAR
VERSION:2.0
PRODID:-//marcct.org//NONSGML kigkonsult.se iCalcreator 2.30.10//
CALSCALE:GREGORIAN
METHOD:PUBLISH
UID:d23fae85-64e7-4b99-8582-68e81b180674
X-WR-CALDESC:Please bring a minimum of $20 for dinner. Please drop off part
 icipants at the MARC\, Inc. building at 151 Sheldon Rd by 2:30pm on the da
 y of the event\; transportation home will be provided by MARC\, Inc. staff
 . Registration required. You may register for up to four events per month.
X-WR-RELCALID:fac5c9653208c66bf6091712ef84ce2b
X-WR-TIMEZONE:America/New_York
BEGIN:VTIMEZONE
TZID:America/New_York
BEGIN:STANDARD
TZNAME:EST
DTSTART:20241103T020000
TZOFFSETFROM:-0400
TZOFFSETTO:-0500
RDATE:20251102T020000
END:STANDARD
BEGIN:DAYLIGHT
TZNAME:EDT
DTSTART:20240310T020000
TZOFFSETFROM:-0500
TZOFFSETTO:-0400
RDATE:20250309T020000
RDATE:20260308T020000
END:DAYLIGHT
END:VTIMEZONE
BEGIN:VEVENT
UID:376af8b8-3522-48e4-8ce8-cf46346d5674
DTSTAMP:20260421T121655Z
DESCRIPTION:Please bring a minimum of $20 for dinner. Please drop off parti
 cipants at the MARC\, Inc. building at 151 Sheldon Rd by 2:30pm on the day
  of the event\; transportation home will be provided by MARC\, Inc. staff.
  Registration required. You may register for up to four events per month.
DTSTART;TZID=America/New_York:20241210T143000
DTEND;TZID=America/New_York:20241210T183000
LOCATION:
SUMMARY:REC Activity - Dave and Busters
END:VEVENT
END:VCALENDAR
