BEGIN:VCALENDAR
VERSION:2.0
PRODID:-//marcct.org//NONSGML kigkonsult.se iCalcreator 2.30.10//
CALSCALE:GREGORIAN
METHOD:PUBLISH
UID:a7e27f52-c53a-4391-ad61-4542a72b2921
X-WR-CALDESC:The activity fee for this event is $25.00. The fee includes di
 nner and is due at time of registration. Please drop off participants at t
 he MARC\, Inc. building at 151 Sheldon Rd by 2:30pm on the day of the even
 t. Transportation home will be provided by MARC\, Inc. staff. Drop off tim
 es will vary based on your distance from MARC\, Inc.
X-WR-RELCALID:9d86f69ffd24e289093c64776433e415
X-WR-TIMEZONE:America/New_York
BEGIN:VTIMEZONE
TZID:America/New_York
BEGIN:STANDARD
TZNAME:EST
DTSTART:20241103T020000
TZOFFSETFROM:-0400
TZOFFSETTO:-0500
RDATE:20251102T020000
END:STANDARD
BEGIN:DAYLIGHT
TZNAME:EDT
DTSTART:20250309T020000
TZOFFSETFROM:-0500
TZOFFSETTO:-0400
RDATE:20260308T020000
END:DAYLIGHT
END:VTIMEZONE
BEGIN:VEVENT
UID:61c9c547-7a87-4485-af79-bed06cb53e36
DTSTAMP:20260421T094826Z
DESCRIPTION:The activity fee for this event is $25.00. The fee includes din
 ner and is due at time of registration. Please drop off participants at th
 e MARC\, Inc. building at 151 Sheldon Rd by 2:30pm on the day of the event
 . Transportation home will be provided by MARC\, Inc. staff. Drop off time
 s will vary based on your distance from MARC\, Inc.
DTSTART;TZID=America/New_York:20250408T143000
DTEND;TZID=America/New_York:20250408T190000
LOCATION:
SUMMARY:REC Activity - Pottery Painting at Firestone Cafe
END:VEVENT
END:VCALENDAR
