BEGIN:VCALENDAR
VERSION:2.0
PRODID:-//marcct.org//NONSGML kigkonsult.se iCalcreator 2.30.10//
CALSCALE:GREGORIAN
METHOD:PUBLISH
UID:451f52e6-7fa1-48a1-aea8-a3fe5c3bf12f
X-WR-CALDESC:The activity fee for this event is $25.00. The fee includes co
 ncessions and is due at time of registration. Transportation to and from h
 ome before and after the event will be provided by MARC\, Inc. staff\; pic
 k-up starts at 10:30a\; your pick-up time will vary based on your distance
  from MARC\, Inc. For assistance during the event\, you can reach the recr
 eation staff directly at (860) 938-5193.
X-WR-RELCALID:f55da765b9042abacc4e28f8df75221b
X-WR-TIMEZONE:America/New_York
BEGIN:VTIMEZONE
TZID:America/New_York
BEGIN:STANDARD
TZNAME:EST
DTSTART:20241103T020000
TZOFFSETFROM:-0400
TZOFFSETTO:-0500
RDATE:20251102T020000
RDATE:20261101T020000
END:STANDARD
BEGIN:DAYLIGHT
TZNAME:EDT
DTSTART:20250309T020000
TZOFFSETFROM:-0500
TZOFFSETTO:-0400
RDATE:20260308T020000
END:DAYLIGHT
END:VTIMEZONE
BEGIN:VEVENT
UID:e2dd2d78-9f24-4252-86cf-8b5ba859a6da
DTSTAMP:20260421T083033Z
DESCRIPTION:The activity fee for this event is $25.00. The fee includes con
 cessions and is due at time of registration. Transportation to and from ho
 me before and after the event will be provided by MARC\, Inc. staff\; pick
 -up starts at 10:30a\; your pick-up time will vary based on your distance 
 from MARC\, Inc. For assistance during the event\, you can reach the recre
 ation staff directly at (860) 938-5193.
DTSTART;TZID=America/New_York:20250713T103000
DTEND;TZID=America/New_York:20250713T153000
LOCATION:
SUMMARY:REC Activity - Vintage Baseball & Family Fun Day at Dunkin Park
END:VEVENT
END:VCALENDAR
