BEGIN:VCALENDAR
VERSION:2.0
PRODID:-//marcct.org//NONSGML kigkonsult.se iCalcreator 2.30.10//
CALSCALE:GREGORIAN
METHOD:PUBLISH
UID:f6efb748-7661-48b8-8f7c-785e756c16d8
X-WR-CALDESC:The activity fee for this event is $25.00. The fee includes lu
 nch and is due at time of registration. Please drop off participants at th
 e MARC\, Inc. building at 151 Sheldon Rd by 9:00am on the day of the event
 . Transportation home after the event will be provided by MARC\, Inc. staf
 f\; your drop off time will vary. For assistance during an event\, you can
  reach the recreation staff directly at (860) 938-5193.
X-WR-RELCALID:0356b83ae5bef588e51acec55e39ea37
X-WR-TIMEZONE:America/New_York
BEGIN:VTIMEZONE
TZID:America/New_York
BEGIN:STANDARD
TZNAME:EST
DTSTART:20251102T020000
TZOFFSETFROM:-0400
TZOFFSETTO:-0500
RDATE:20261101T020000
END:STANDARD
BEGIN:DAYLIGHT
TZNAME:EDT
DTSTART:20250309T020000
TZOFFSETFROM:-0500
TZOFFSETTO:-0400
RDATE:20260308T020000
RDATE:20270314T020000
END:DAYLIGHT
END:VTIMEZONE
BEGIN:VEVENT
UID:dac013da-8b47-4759-9e82-02540238b90e
DTSTAMP:20260421T101531Z
DESCRIPTION:The activity fee for this event is $25.00. The fee includes lun
 ch and is due at time of registration. Please drop off participants at the
  MARC\, Inc. building at 151 Sheldon Rd by 9:00am on the day of the event.
  Transportation home after the event will be provided by MARC\, Inc. staff
 \; your drop off time will vary. For assistance during an event\, you can 
 reach the recreation staff directly at (860) 938-5193.
DTSTART;TZID=America/New_York:20260110T090000
DTEND;TZID=America/New_York:20260110T150000
LOCATION:
SUMMARY:REC Activity - Dinosaur World Live @ Garde Arts Center
END:VEVENT
END:VCALENDAR
